BEGIN:VCALENDAR
VERSION:2.0
PRODID:-//wegewerk//ww.edit CMS//DE
METHOD:PUBLISH
BEGIN:VEVENT
UID:wwe-eab16--47291
LOCATION:Französische Friedrichstadtkirche\, Gendarmenmarkt 5\, 10117 Berlin
URL:https://www.eaberlin.de/seminars/data/2026/05/single-hauptstadt-berlin/
SUMMARY:Single-Hauptstadt Berlin
CLASS:PUBLIC
GEO:52.51436;13.39214
DTSTAMP:20260422T134107
DTSTART:20260511T193000
DTEND:20260511T213000
END:VEVENT
END:VCALENDAR