BEGIN:VCALENDAR
VERSION:2.0
PRODID:-//wegewerk//ww.edit CMS//DE
METHOD:PUBLISH
BEGIN:VEVENT
UID:wwe-eab16--47297
LOCATION:St. Michael Kirche \, Margeritenweg 1a\, 14974 Ludwigsfelde
URL:https://www.eaberlin.de/seminars/data/2026/05/sommerpredigt-in-ludwigsfelde/
SUMMARY:Sommerpredigt in Ludwigsfelde 
CLASS:PUBLIC
GEO:52.300431;13.2557368
DTSTAMP:20260424T121107
DTSTART:20260531T090000
DTEND:20260531T160000
END:VEVENT
END:VCALENDAR