BEGIN:VCALENDAR
VERSION:2.0
PRODID:-//wegewerk//ww.edit CMS//DE
METHOD:PUBLISH
BEGIN:VEVENT
UID:wwe-eab16--47292
LOCATION:St. Jacobi Kirche
\, Friedrichstraße 40\, 17291 Prenzlau
URL:https://www.eaberlin.de/seminars/data/2026/06/demokratie-leben/
SUMMARY:Demokratie leben
CLASS:PUBLIC
GEO:53.3162722;13.8613291
DTSTAMP:20260422T161103
DTSTART:20260611T100000
DTEND:20260611T140000
END:VEVENT
END:VCALENDAR