BEGIN:VCALENDAR
VERSION:2.0
PRODID:-//wegewerk//ww.edit CMS//DE
METHOD:PUBLISH
BEGIN:VEVENT
UID:wwe-eab16--47298
LOCATION:Französische Friedrichstadtkirche\, Gendarmenmarkt 5\, 10117 Berlin
URL:https://www.eaberlin.de/seminars/data/2026/06/myescape/
SUMMARY:#MyEscape
CLASS:PUBLIC
GEO:52.51436;13.39214
DTSTAMP:20260424T134031
DTSTART:20260605T180000
DTEND:20260605T203000
END:VEVENT
END:VCALENDAR