BEGIN:VCALENDAR
VERSION:2.0
PRODID:-//wegewerk//ww.edit CMS//DE
METHOD:PUBLISH
BEGIN:VEVENT
UID:wwe-eab16--47296
LOCATION:Haus der EKD\, Charlottenstraße 53/54\, 10117 Berlin
URL:https://www.eaberlin.de/seminars/data/2026/06/solidarisch-wirtschaften-ao-aber-wie/
SUMMARY:Solidarisch wirtschaften – aber wie?
CLASS:PUBLIC
GEO:52.51427;13.39093
DTSTAMP:20260423T141112
DTSTART:20260603T180000
DTEND:20260603T210000
END:VEVENT
END:VCALENDAR